BEGIN:VCALENDAR
VERSION:2.0
PRODID:-//Máster en Disfunciones de Suelo Pélvico - ECPv6.15.17//NONSGML v1.0//EN
CALSCALE:GREGORIAN
METHOD:PUBLISH
X-WR-CALNAME:Máster en Disfunciones de Suelo Pélvico
X-ORIGINAL-URL:https://www.suelopelvico.uma.es
X-WR-CALDESC:Eventos para Máster en Disfunciones de Suelo Pélvico
REFRESH-INTERVAL;VALUE=DURATION:PT1H
X-Robots-Tag:noindex
X-PUBLISHED-TTL:PT1H
BEGIN:VTIMEZONE
TZID:Europe/Madrid
BEGIN:DAYLIGHT
TZOFFSETFROM:+0100
TZOFFSETTO:+0200
TZNAME:CEST
DTSTART:20220327T010000
END:DAYLIGHT
BEGIN:STANDARD
TZOFFSETFROM:+0200
TZOFFSETTO:+0100
TZNAME:CET
DTSTART:20221030T010000
END:STANDARD
BEGIN:DAYLIGHT
TZOFFSETFROM:+0100
TZOFFSETTO:+0200
TZNAME:CEST
DTSTART:20230326T010000
END:DAYLIGHT
BEGIN:STANDARD
TZOFFSETFROM:+0200
TZOFFSETTO:+0100
TZNAME:CET
DTSTART:20231029T010000
END:STANDARD
BEGIN:DAYLIGHT
TZOFFSETFROM:+0100
TZOFFSETTO:+0200
TZNAME:CEST
DTSTART:20240331T010000
END:DAYLIGHT
BEGIN:STANDARD
TZOFFSETFROM:+0200
TZOFFSETTO:+0100
TZNAME:CET
DTSTART:20241027T010000
END:STANDARD
END:VTIMEZONE
BEGIN:VEVENT
DTSTART;VALUE=DATE:20231020
DTEND;VALUE=DATE:20231023
DTSTAMP:20260426T040128
CREATED:20230613T183947Z
LAST-MODIFIED:20240408T153239Z
UID:17491-1697760000-1698019199@www.suelopelvico.uma.es
SUMMARY:3. Obstetricia II
DESCRIPTION:20 de octubre de 2023\n 16.00-21.00: Atención al parto: el dolor y el movimiento como aliados en el parto. Prof.ª Ascensión Gómez López. Fisioterapeuta-Matrona en Clínica Ascensión MatroFisio. Cartagena. \n 21 de octubre de 2023\n 9.00-14.00: Fisioterapia en el post-parto inmediato. Prof.ª Adoración Gil Bolaños. Fisioterapeuta. Hospital Negrín. Gran Canarias.\n 15.30-20.30: Prácticas. \n 22 de octubre de 2023\n 9.00-10.30: [ONLINE] Doña Pilar Martín. Fisioterapeuta Especialista en Suelo Pélvico. Caboolture Hospital\, Queensland Health. Brisbane\, Australia. \n\nA propósito de la experiencia de una Unidad de Maternidad de Urgencia.\n\n 11.30-14.00: [ONLINE] Dra. Carolina Walker Chao. Prof.ª Univ. Central de Catalunya. \n\nFisioterapia en el pre y post-parto. Aportaciones desde la evidencia.
URL:https://www.suelopelvico.uma.es/seminario/3-obstetricia-ii/
CATEGORIES:Seminarios,XIII Edición
END:VEVENT
END:VCALENDAR